BEGIN:VCALENDAR
VERSION:2.0
PRODID:-//Teens for Christ Africa - ECPv6.15.1.1//NONSGML v1.0//EN
CALSCALE:GREGORIAN
METHOD:PUBLISH
X-ORIGINAL-URL:https://teensforchristafrica.org
X-WR-CALDESC:Events for Teens for Christ Africa
REFRESH-INTERVAL;VALUE=DURATION:PT1H
X-Robots-Tag:noindex
X-PUBLISHED-TTL:PT1H
BEGIN:VTIMEZONE
TZID:Africa/Nairobi
BEGIN:STANDARD
TZOFFSETFROM:+0300
TZOFFSETTO:+0300
TZNAME:EAT
DTSTART:20250101T000000
END:STANDARD
END:VTIMEZONE
BEGIN:VEVENT
DTSTART;TZID=Africa/Nairobi:20251227T080000
DTEND;TZID=Africa/Nairobi:20251231T170000
DTSTAMP:20260423T201716
CREATED:20250509T104123Z
LAST-MODIFIED:20250509T104142Z
UID:505-1766822400-1767200400@teensforchristafrica.org
SUMMARY:Staff  and Volunteers Retreat
DESCRIPTION:
URL:https://teensforchristafrica.org/event/staff-and-volunteers-retreat/
LOCATION:Moi Tea Girls High School\, J74P+HCP\, Kericho\, Kericho\, Kericho\, Kenya
CATEGORIES:Retreats
END:VEVENT
END:VCALENDAR