BEGIN:VCALENDAR
VERSION:2.0
PRODID:-//Teens for Christ Africa - ECPv6.15.1.1//NONSGML v1.0//EN
CALSCALE:GREGORIAN
METHOD:PUBLISH
X-WR-CALNAME:Teens for Christ Africa
X-ORIGINAL-URL:https://teensforchristafrica.org
X-WR-CALDESC:Events for Teens for Christ Africa
REFRESH-INTERVAL;VALUE=DURATION:PT1H
X-Robots-Tag:noindex
X-PUBLISHED-TTL:PT1H
BEGIN:VTIMEZONE
TZID:Africa/Nairobi
BEGIN:STANDARD
TZOFFSETFROM:+0300
TZOFFSETTO:+0300
TZNAME:EAT
DTSTART:20250101T000000
END:STANDARD
END:VTIMEZONE
BEGIN:VEVENT
DTSTART;TZID=Africa/Nairobi:20250814T080000
DTEND;TZID=Africa/Nairobi:20250817T170000
DTSTAMP:20260423T202054
CREATED:20250509T103924Z
LAST-MODIFIED:20250509T103924Z
UID:503-1755158400-1755450000@teensforchristafrica.org
SUMMARY:Regional Directors’ Retreat
DESCRIPTION:The retreat will be held in Nakuru County
URL:https://teensforchristafrica.org/event/regional-directors-retreat/
CATEGORIES:Training
END:VEVENT
END:VCALENDAR