BEGIN:VCALENDAR
VERSION:2.0
PRODID:-//Teens for Christ Africa - ECPv6.15.1.1//NONSGML v1.0//EN
CALSCALE:GREGORIAN
METHOD:PUBLISH
X-WR-CALNAME:Teens for Christ Africa
X-ORIGINAL-URL:https://teensforchristafrica.org
X-WR-CALDESC:Events for Teens for Christ Africa
REFRESH-INTERVAL;VALUE=DURATION:PT1H
X-Robots-Tag:noindex
X-PUBLISHED-TTL:PT1H
BEGIN:VTIMEZONE
TZID:Africa/Nairobi
BEGIN:STANDARD
TZOFFSETFROM:+0300
TZOFFSETTO:+0300
TZNAME:EAT
DTSTART:20250101T000000
END:STANDARD
END:VTIMEZONE
BEGIN:VEVENT
DTSTART;TZID=Africa/Nairobi:20251227T080000
DTEND;TZID=Africa/Nairobi:20251231T170000
DTSTAMP:20260423T174223
CREATED:20250509T104123Z
LAST-MODIFIED:20250509T104142Z
UID:505-1766822400-1767200400@teensforchristafrica.org
SUMMARY:Staff  and Volunteers Retreat
DESCRIPTION:
URL:https://teensforchristafrica.org/event/staff-and-volunteers-retreat/
LOCATION:Moi Tea Girls High School\, J74P+HCP\, Kericho\, Kericho\, Kericho\, Kenya
CATEGORIES:Retreats
END:VEVENT
BEGIN:VEVENT
DTSTART;TZID=Africa/Nairobi:20250814T080000
DTEND;TZID=Africa/Nairobi:20250817T170000
DTSTAMP:20260423T174223
CREATED:20250509T103924Z
LAST-MODIFIED:20250509T103924Z
UID:503-1755158400-1755450000@teensforchristafrica.org
SUMMARY:Regional Directors’ Retreat
DESCRIPTION:The retreat will be held in Nakuru County
URL:https://teensforchristafrica.org/event/regional-directors-retreat/
LOCATION:Kericho
CATEGORIES:Training
END:VEVENT
BEGIN:VEVENT
DTSTART;TZID=Africa/Nairobi:20250613T080000
DTEND;TZID=Africa/Nairobi:20250615T170000
DTSTAMP:20260423T174223
CREATED:20250509T074102Z
LAST-MODIFIED:20250509T074102Z
UID:485-1749801600-1750006800@teensforchristafrica.org
SUMMARY:Weekend  Challenge
DESCRIPTION:
URL:https://teensforchristafrica.org/event/weekend-challenge/
LOCATION:Ayiecho Nyatao Secondary School\, V34Q+Q77\, Awasi\, Kisumu\, Kenya
END:VEVENT
BEGIN:VEVENT
DTSTART;TZID=Africa/Nairobi:20250610T080000
DTEND;TZID=Africa/Nairobi:20250610T170000
DTSTAMP:20260423T174223
CREATED:20250509T103441Z
LAST-MODIFIED:20250509T103441Z
UID:501-1749542400-1749574800@teensforchristafrica.org
SUMMARY:Regional Visit with Pastor Richard Rakay
DESCRIPTION:We will be visiting the Nairobi\, Eastern region.
URL:https://teensforchristafrica.org/event/regional-visit-with-pastor-richard-rakay-4/
LOCATION:Kericho
CATEGORIES:Visits
END:VEVENT
BEGIN:VEVENT
DTSTART;TZID=Africa/Nairobi:20250609T080000
DTEND;TZID=Africa/Nairobi:20250609T170000
DTSTAMP:20260423T174223
CREATED:20250509T100506Z
LAST-MODIFIED:20250509T100506Z
UID:498-1749456000-1749488400@teensforchristafrica.org
SUMMARY:Regional visit with  Pastor Richard Rakay
DESCRIPTION:Visiting Siaya /Western/Kisumu areas
URL:https://teensforchristafrica.org/event/regional-visit-with-pastor-richard-rakay-3/
LOCATION:Siaya\, 0.06274221449486359\, 34.28712814236837\, siaya\, Kenya
CATEGORIES:Visits
END:VEVENT
BEGIN:VEVENT
DTSTART;TZID=Africa/Nairobi:20250606T080000
DTEND;TZID=Africa/Nairobi:20250606T170000
DTSTAMP:20260423T174223
CREATED:20250509T074615Z
LAST-MODIFIED:20250509T074615Z
UID:491-1749196800-1749229200@teensforchristafrica.org
SUMMARY:Regional visit with Pastor Richard Rakay
DESCRIPTION:Visiting Homa Bay/ Migori /Kisii/ Nyamira
URL:https://teensforchristafrica.org/event/regional-visit-with-pastor-richard-rakay-2/
LOCATION:Homa Bay\, Kenya
CATEGORIES:Visits
END:VEVENT
BEGIN:VEVENT
DTSTART;TZID=Africa/Nairobi:20250605T080000
DTEND;TZID=Africa/Nairobi:20250605T170000
DTSTAMP:20260423T174223
CREATED:20250509T074355Z
LAST-MODIFIED:20250509T074355Z
UID:488-1749110400-1749142800@teensforchristafrica.org
SUMMARY:Regional visit with  Pastor Richard Rakay
DESCRIPTION:
URL:https://teensforchristafrica.org/event/regional-visit-with-pastor-richard-rakay/
LOCATION:Rift Valley\, Kenya\, Mirera\, Naukuru\, Kenya
END:VEVENT
BEGIN:VEVENT
DTSTART;TZID=Africa/Nairobi:20250604T080000
DTEND;TZID=Africa/Nairobi:20250604T170000
DTSTAMP:20260423T174223
CREATED:20250509T072928Z
LAST-MODIFIED:20250509T072928Z
UID:478-1749024000-1749056400@teensforchristafrica.org
SUMMARY:Discipleship Training
DESCRIPTION:
URL:https://teensforchristafrica.org/event/discipleship-training/
LOCATION:Dan’s Hotel – Kisii\, 8QJ9+V4\, Kisii\, Kisii\, Kisii\, 00057\, Kenya
END:VEVENT
END:VCALENDAR